BEGIN:VCALENDAR
VERSION:2.0
PRODID:-//Town of Caledonia - ECPv5.16.4//NONSGML v1.0//EN
CALSCALE:GREGORIAN
METHOD:PUBLISH
X-WR-CALNAME:Town of Caledonia
X-ORIGINAL-URL:https://townofcaledonia.org
X-WR-CALDESC:Events for Town of Caledonia
REFRESH-INTERVAL;VALUE=DURATION:PT1H
X-Robots-Tag:noindex
X-PUBLISHED-TTL:PT1H
BEGIN:VTIMEZONE
TZID:America/Chicago
BEGIN:DAYLIGHT
TZOFFSETFROM:-0600
TZOFFSETTO:-0500
TZNAME:CDT
DTSTART:20250309T080000
END:DAYLIGHT
BEGIN:STANDARD
TZOFFSETFROM:-0500
TZOFFSETTO:-0600
TZNAME:CST
DTSTART:20251102T070000
END:STANDARD
END:VTIMEZONE
BEGIN:VEVENT
DTSTART;TZID=America/Chicago:20250308T110000
DTEND;TZID=America/Chicago:20250308T150000
DTSTAMP:20260420T224147
CREATED:20250217T223051Z
LAST-MODIFIED:20250217T223051Z
UID:3482-1741431600-1741446000@townofcaledonia.org
SUMMARY:Hall Rental
DESCRIPTION:
URL:https://townofcaledonia.org/event/hall-rental-16/
CATEGORIES:Town Hall Rental
END:VEVENT
BEGIN:VEVENT
DTSTART;TZID=America/Chicago:20250322T060000
DTEND;TZID=America/Chicago:20250322T160000
DTSTAMP:20260420T224147
CREATED:20250211T202936Z
LAST-MODIFIED:20250211T202936Z
UID:3476-1742623200-1742659200@townofcaledonia.org
SUMMARY:Hall Rental
DESCRIPTION:
URL:https://townofcaledonia.org/event/hall-rental-15/
CATEGORIES:Town Hall Rental
END:VEVENT
BEGIN:VEVENT
DTSTART;TZID=America/Chicago:20250324T123000
DTEND;TZID=America/Chicago:20250324T150000
DTSTAMP:20260420T224147
CREATED:20250312T001407Z
LAST-MODIFIED:20250312T002657Z
UID:3517-1742819400-1742828400@townofcaledonia.org
SUMMARY:4H Rehearsal
DESCRIPTION:
URL:https://townofcaledonia.org/event/4h-meeting-3/
CATEGORIES:Town Hall Rental
END:VEVENT
BEGIN:VEVENT
DTSTART;TZID=America/Chicago:20250325T090000
DTEND;TZID=America/Chicago:20250325T110000
DTSTAMP:20260420T224147
CREATED:20250312T001516Z
LAST-MODIFIED:20250312T002751Z
UID:3518-1742893200-1742900400@townofcaledonia.org
SUMMARY:4H Rehearsal
DESCRIPTION:
URL:https://townofcaledonia.org/event/4h-meeting-4/
CATEGORIES:Town Hall Rental
END:VEVENT
BEGIN:VEVENT
DTSTART;TZID=America/Chicago:20250327T183000
DTEND;TZID=America/Chicago:20250327T203000
DTSTAMP:20260420T224147
CREATED:20250318T202424Z
LAST-MODIFIED:20250318T202424Z
UID:3535-1743100200-1743107400@townofcaledonia.org
SUMMARY:4H Rehearsal
DESCRIPTION:
URL:https://townofcaledonia.org/event/4h-rehearsal/
CATEGORIES:Town Hall Rental
END:VEVENT
BEGIN:VEVENT
DTSTART;TZID=America/Chicago:20250330T100000
DTEND;TZID=America/Chicago:20250330T170000
DTSTAMP:20260420T224147
CREATED:20250107T011905Z
LAST-MODIFIED:20250217T223750Z
UID:3389-1743328800-1743354000@townofcaledonia.org
SUMMARY:Hall Rental
DESCRIPTION:
URL:https://townofcaledonia.org/event/town-hall-rental-2/
CATEGORIES:Town Hall Rental
END:VEVENT
END:VCALENDAR